BEGIN:VCALENDAR
VERSION:2.0
PRODID:icalendar-ruby
CALSCALE:GREGORIAN
METHOD:PUBLISH
BEGIN:VEVENT
DTSTAMP:20260423T085906Z
UID:10-1179037@trinitygillette.com
DTSTART:20260726T160000Z
DTEND:20260726T173000Z
CLASS:PUBLIC
CREATED:20260422T195650
DESCRIPTION:
LAST-MODIFIED:20260422T195650
LOCATION:Trinity Lutheran Church
SUMMARY:Sunday Divine Service
URL;VALUE=URI:https://trinitygillette.com/events/sunday-divine-service/2026
 -07-26
END:VEVENT
END:VCALENDAR
