BEGIN:VCALENDAR
VERSION:2.0
PRODID:icalendar-ruby
CALSCALE:GREGORIAN
METHOD:PUBLISH
BEGIN:VEVENT
DTSTAMP:20260423T140143Z
UID:10-1179340@trinitygillette.com
DTSTART:20260816T160000Z
DTEND:20260816T173000Z
CLASS:PUBLIC
CREATED:20260423T052707
DESCRIPTION:
LAST-MODIFIED:20260423T052707
LOCATION:Trinity Lutheran Church
SUMMARY:Sunday Divine Service
URL;VALUE=URI:https://trinitygillette.com/events/sunday-divine-service/2026
 -08-16
END:VEVENT
END:VCALENDAR
