BEGIN:VCALENDAR
VERSION:2.0
PRODID:icalendar-ruby
CALSCALE:GREGORIAN
METHOD:PUBLISH
BEGIN:VEVENT
DTSTAMP:20260423T170507Z
UID:10-1179642@trinitygillette.com
DTSTART:20260830T160000Z
DTEND:20260830T173000Z
CLASS:PUBLIC
CREATED:20260423T081937
DESCRIPTION:
LAST-MODIFIED:20260423T081937
LOCATION:Trinity Lutheran Church
SUMMARY:Sunday Divine Service
URL;VALUE=URI:https://trinitygillette.com/events/sunday-divine-service/2026
 -08-30
END:VEVENT
END:VCALENDAR
