BEGIN:VCALENDAR
VERSION:2.0
PRODID:icalendar-ruby
CALSCALE:GREGORIAN
METHOD:PUBLISH
BEGIN:VEVENT
DTSTAMP:20260423T185855Z
UID:10-1179943@trinitygillette.com
DTSTART:20260906T160000Z
DTEND:20260906T173000Z
CLASS:PUBLIC
CREATED:20260423T111601
DESCRIPTION:
LAST-MODIFIED:20260423T111601
LOCATION:Trinity Lutheran Church
SUMMARY:Sunday Divine Service
URL;VALUE=URI:https://trinitygillette.com/events/sunday-divine-service/2026
 -09-06
END:VEVENT
END:VCALENDAR
