BEGIN:VCALENDAR
VERSION:2.0
PRODID:icalendar-ruby
CALSCALE:GREGORIAN
METHOD:PUBLISH
BEGIN:VEVENT
DTSTAMP:20260424T090737Z
UID:10-1180854@trinitygillette.com
DTSTART:20261101T170000Z
DTEND:20261101T183000Z
CLASS:PUBLIC
CREATED:20260423T195853
DESCRIPTION:
LAST-MODIFIED:20260423T195853
LOCATION:Trinity Lutheran Church
SUMMARY:Sunday Divine Service
URL;VALUE=URI:https://trinitygillette.com/events/sunday-divine-service/2026
 -11-01
END:VEVENT
END:VCALENDAR
